BEGIN:VCALENDAR
VERSION:2.0
PRODID:-//SSMO · SGMO · SSOM | Schweizerische Gesellschaft für Medizinische Onkologie - ECPv6.15.17.1//NONSGML v1.0//EN
CALSCALE:GREGORIAN
METHOD:PUBLISH
X-ORIGINAL-URL:https://www.sgmo.ch/en/
X-WR-CALDESC:Events for SSMO · SGMO · SSOM | Schweizerische Gesellschaft für Medizinische Onkologie
REFRESH-INTERVAL;VALUE=DURATION:PT1H
X-Robots-Tag:noindex
X-PUBLISHED-TTL:PT1H
BEGIN:VTIMEZONE
TZID:Europe/Berlin
BEGIN:DAYLIGHT
TZOFFSETFROM:+0100
TZOFFSETTO:+0200
TZNAME:CEST
DTSTART:20240331T010000
END:DAYLIGHT
BEGIN:STANDARD
TZOFFSETFROM:+0200
TZOFFSETTO:+0100
TZNAME:CET
DTSTART:20241027T010000
END:STANDARD
BEGIN:DAYLIGHT
TZOFFSETFROM:+0100
TZOFFSETTO:+0200
TZNAME:CEST
DTSTART:20250330T010000
END:DAYLIGHT
BEGIN:STANDARD
TZOFFSETFROM:+0200
TZOFFSETTO:+0100
TZNAME:CET
DTSTART:20251026T010000
END:STANDARD
BEGIN:DAYLIGHT
TZOFFSETFROM:+0100
TZOFFSETTO:+0200
TZNAME:CEST
DTSTART:20260329T010000
END:DAYLIGHT
BEGIN:STANDARD
TZOFFSETFROM:+0200
TZOFFSETTO:+0100
TZNAME:CET
DTSTART:20261025T010000
END:STANDARD
END:VTIMEZONE
BEGIN:VEVENT
DTSTART;TZID=Europe/Berlin:20251202T083000
DTEND;TZID=Europe/Berlin:20251206T183000
DTSTAMP:20260421T232722
CREATED:20251020T102304Z
LAST-MODIFIED:20251020T102304Z
UID:10001544-1764664200-1765045800@www.sgmo.ch
SUMMARY:Médecine Interne Update Refresher
DESCRIPTION:
URL:https://www.sgmo.ch/en/event/medecine-interne-update-refresher-3/
END:VEVENT
BEGIN:VEVENT
DTSTART;TZID=Europe/Berlin:20251128T160000
DTEND;TZID=Europe/Berlin:20251128T170000
DTSTAMP:20260421T232722
CREATED:20250214T105026Z
LAST-MODIFIED:20250214T105026Z
UID:10001377-1764345600-1764349200@www.sgmo.ch
SUMMARY:Case reports Lung Cancer
DESCRIPTION:
URL:https://www.sgmo.ch/en/event/case-reports-lung-cancer/
END:VEVENT
BEGIN:VEVENT
DTSTART;TZID=Europe/Berlin:20251128T133000
DTEND;TZID=Europe/Berlin:20251129T120000
DTSTAMP:20260421T232722
CREATED:20250204T105039Z
LAST-MODIFIED:20250204T105039Z
UID:10001366-1764336600-1764417600@www.sgmo.ch
SUMMARY:SAMO Interdisciplinary Workshop on Chest Tumors
DESCRIPTION:
URL:https://www.sgmo.ch/en/event/samo-interdisciplinary-workshop-on-chest-tumors-2/
END:VEVENT
BEGIN:VEVENT
DTSTART;TZID=Europe/Berlin:20251127T183000
DTEND;TZID=Europe/Berlin:20251127T203000
DTSTAMP:20260421T232722
CREATED:20251028T132135Z
LAST-MODIFIED:20251028T132135Z
UID:10001549-1764268200-1764275400@www.sgmo.ch
SUMMARY:Interfaccia tra cuore e terapie per il cancro alla prostata
DESCRIPTION:
URL:https://www.sgmo.ch/en/event/interfaccia-tra-cuore-e-terapie-per-il-cancro-alla-prostata/
END:VEVENT
BEGIN:VEVENT
DTSTART;TZID=Europe/Berlin:20251127T164500
DTEND;TZID=Europe/Berlin:20251127T193000
DTSTAMP:20260421T232722
CREATED:20251030T135512Z
LAST-MODIFIED:20251030T135512Z
UID:10001554-1764261900-1764271800@www.sgmo.ch
SUMMARY:Aktuelle Fortschritte bei der Behandlung von HR+/HER2– Brustkrebs im Frühstadium (eBC)
DESCRIPTION:
URL:https://www.sgmo.ch/en/event/aktuelle-fortschritte-bei-der-behandlung-von-hr-her2-brustkrebs-im-fruehstadium-ebc/
END:VEVENT
BEGIN:VEVENT
DTSTART;TZID=Europe/Berlin:20251127T160000
DTEND;TZID=Europe/Berlin:20251127T200000
DTSTAMP:20260421T232722
CREATED:20251111T132305Z
LAST-MODIFIED:20251111T132305Z
UID:10001567-1764259200-1764273600@www.sgmo.ch
SUMMARY:Meet the experts: Internat. Lebersymposium Zürich 2025 (CCC & HCC Spotlights & Pitches GIOS-Review)
DESCRIPTION:
URL:https://www.sgmo.ch/en/event/meet-the-experts-internat-lebersymposium-zuerich-2025-ccc-hcc-spotlights-pitches-gios-review/
END:VEVENT
BEGIN:VEVENT
DTSTART;TZID=Europe/Berlin:20251127T160000
DTEND;TZID=Europe/Berlin:20251127T183000
DTSTAMP:20260421T232722
CREATED:20251008T082303Z
LAST-MODIFIED:20251008T082303Z
UID:10001539-1764259200-1764268200@www.sgmo.ch
SUMMARY:Le cancer du poumon à petites cellules : passé\, présent et futur
DESCRIPTION:
URL:https://www.sgmo.ch/en/event/le-cancer-du-poumon-a-petites-cellules-passe-present-et-futur/
END:VEVENT
BEGIN:VEVENT
DTSTART;TZID=Europe/Berlin:20251127T141500
DTEND;TZID=Europe/Berlin:20251127T180000
DTSTAMP:20260421T232722
CREATED:20251030T092307Z
LAST-MODIFIED:20251030T092307Z
UID:10001552-1764252900-1764266400@www.sgmo.ch
SUMMARY:2. Grosse Semesterfortbildung Dermatologische Klinik USZ zusammen mit CCCZ USZ: Pruritus 2025 – Aktuelle Konzepte und Therapien
DESCRIPTION:
URL:https://www.sgmo.ch/en/event/2-grosse-semesterfortbildung-dermatologische-klinik-usz-zusammen-mit-cccz-usz-pruritus-2025-aktuelle-konzepte-und-therapien/
END:VEVENT
BEGIN:VEVENT
DTSTART;TZID=Europe/Berlin:20251127T131500
DTEND;TZID=Europe/Berlin:20251127T180000
DTSTAMP:20260421T232722
CREATED:20251121T162304Z
LAST-MODIFIED:20251121T162304Z
UID:10001570-1764249300-1764266400@www.sgmo.ch
SUMMARY:SAMO Highlights of the Year 2025
DESCRIPTION:
URL:https://www.sgmo.ch/en/event/samo-highlights-of-the-year-2025/
END:VEVENT
BEGIN:VEVENT
DTSTART;TZID=Europe/Berlin:20251127T093000
DTEND;TZID=Europe/Berlin:20251128T161500
DTSTAMP:20260421T232722
CREATED:20250123T115026Z
LAST-MODIFIED:20250123T115026Z
UID:10001338-1764235800-1764346500@www.sgmo.ch
SUMMARY:Diploma course of the Swiss Society of Senology (SSS) Module 1B
DESCRIPTION:
URL:https://www.sgmo.ch/en/event/diploma-course-of-the-swiss-society-of-senology-sss-module-1b-2/
END:VEVENT
BEGIN:VEVENT
DTSTART;TZID=Europe/Berlin:20251127T093000
DTEND;TZID=Europe/Berlin:20251128T160000
DTSTAMP:20260421T232722
CREATED:20251009T063442Z
LAST-MODIFIED:20251009T063442Z
UID:10001540-1764235800-1764345600@www.sgmo.ch
SUMMARY:Nationaler Palliative Care Kongress 2025
DESCRIPTION:
URL:https://www.sgmo.ch/en/event/nationaler-palliative-care-kongress-2025/
END:VEVENT
BEGIN:VEVENT
DTSTART;TZID=Europe/Berlin:20251127T090000
DTEND;TZID=Europe/Berlin:20251127T170000
DTSTAMP:20260421T232722
CREATED:20250307T115022Z
LAST-MODIFIED:20250307T115022Z
UID:10001392-1764234000-1764262800@www.sgmo.ch
SUMMARY:39. Schweizerische Jahrestagung für Phytotherapie: Phytotherapie in der supportiven Onkologie
DESCRIPTION:
URL:https://www.sgmo.ch/en/event/39-schweizerische-jahrestagung-fuer-phytotherapie-phytotherapie-in-der-supportiven-onkologie/
END:VEVENT
BEGIN:VEVENT
DTSTART;TZID=Europe/Berlin:20251127T083000
DTEND;TZID=Europe/Berlin:20251127T163000
DTSTAMP:20260421T232722
CREATED:20250922T102314Z
LAST-MODIFIED:20250922T102314Z
UID:10001523-1764232200-1764261000@www.sgmo.ch
SUMMARY:Prostatakarzinom Symposium
DESCRIPTION:
URL:https://www.sgmo.ch/en/event/prostatakarzinom-symposium/
END:VEVENT
BEGIN:VEVENT
DTSTART;TZID=Europe/Berlin:20251127T081500
DTEND;TZID=Europe/Berlin:20251127T090000
DTSTAMP:20260421T232722
CREATED:20241018T125133Z
LAST-MODIFIED:20241018T125133Z
UID:10001220-1764231300-1764234000@www.sgmo.ch
SUMMARY:Radiothérapie pré-opératoire ou ablative dans le cancer du sein
DESCRIPTION:
URL:https://www.sgmo.ch/en/event/radiotherapie-pre-operatoire-ou-ablative-dans-le-cancer-du-sein/
END:VEVENT
BEGIN:VEVENT
DTSTART;TZID=Europe/Berlin:20251126T170000
DTEND;TZID=Europe/Berlin:20251126T184500
DTSTAMP:20260421T232722
CREATED:20250513T135045Z
LAST-MODIFIED:20250513T135045Z
UID:10001460-1764176400-1764182700@www.sgmo.ch
SUMMARY:Lung Summit Virtuals
DESCRIPTION:
URL:https://www.sgmo.ch/en/event/lung-summit-virtuals-4/
END:VEVENT
BEGIN:VEVENT
DTSTART;TZID=Europe/Berlin:20251126T170000
DTEND;TZID=Europe/Berlin:20251126T183000
DTSTAMP:20260421T232722
CREATED:20251121T162307Z
LAST-MODIFIED:20251121T162307Z
UID:10001571-1764176400-1764181800@www.sgmo.ch
SUMMARY:GIST: Moving Toward Tailored Therapies and ctDNA-Guided Decisions
DESCRIPTION:
URL:https://www.sgmo.ch/en/event/gist-moving-toward-tailored-therapies-and-ctdna-guided-decisions/
END:VEVENT
BEGIN:VEVENT
DTSTART;TZID=Europe/Berlin:20251126T170000
DTEND;TZID=Europe/Berlin:20251126T180000
DTSTAMP:20260421T232722
CREATED:20250403T065026Z
LAST-MODIFIED:20250403T065026Z
UID:10001421-1764176400-1764180000@www.sgmo.ch
SUMMARY:Just ASK? Fertilität\, Sexualität und Körperbild – die stillen Bedürfnisse von jungen Survivors
DESCRIPTION:
URL:https://www.sgmo.ch/en/event/just-ask-fertilitaet-sexualitaet-und-koerperbild-die-stillen-beduerfnisse-von-jungen-survivors/
END:VEVENT
BEGIN:VEVENT
DTSTART;TZID=Europe/Berlin:20251125T180000
DTEND;TZID=Europe/Berlin:20251125T194500
DTSTAMP:20260421T232722
CREATED:20251121T162309Z
LAST-MODIFIED:20251121T162309Z
UID:10001572-1764093600-1764099900@www.sgmo.ch
SUMMARY:Secondary Immunodeficiency (SID) in Hematological Malignancies «Managing Infection Risks with Novel Therapies and B-Cell-Targeted Treatments»
DESCRIPTION:
URL:https://www.sgmo.ch/en/event/secondary-immunodeficiency-sid-in-hematological-malignancies-managing-infection-risks-with-novel-therapies-and-b-cell-targeted-treatments/
END:VEVENT
BEGIN:VEVENT
DTSTART;TZID=Europe/Berlin:20251125T180000
DTEND;TZID=Europe/Berlin:20251125T193000
DTSTAMP:20260421T232722
CREATED:20250903T082304Z
LAST-MODIFIED:20250903T082304Z
UID:10001510-1764093600-1764099000@www.sgmo.ch
SUMMARY:Illuminating new pathways in relapsed/refractory Multiple Myeloma: Advancements beyond CAR-T
DESCRIPTION:
URL:https://www.sgmo.ch/en/event/illuminating-new-pathways-in-relapsed-refractory-multiple-myeloma-advancements-beyond-car-t/
END:VEVENT
BEGIN:VEVENT
DTSTART;TZID=Europe/Berlin:20251125T093000
DTEND;TZID=Europe/Berlin:20251125T160000
DTSTAMP:20260421T232722
CREATED:20251127T122313Z
LAST-MODIFIED:20251127T122313Z
UID:10001585-1764063000-1764086400@www.sgmo.ch
SUMMARY:1er Symposium Romand de Psycho-Oncologie
DESCRIPTION:
URL:https://www.sgmo.ch/en/event/1er-symposium-romand-de-psycho-oncologie/
END:VEVENT
BEGIN:VEVENT
DTSTART;TZID=Europe/Berlin:20251124T090000
DTEND;TZID=Europe/Berlin:20251125T154500
DTSTAMP:20260421T232722
CREATED:20260114T152335Z
LAST-MODIFIED:20260114T152335Z
UID:10001630-1763974800-1764085500@www.sgmo.ch
SUMMARY:SCCL faculty and staff annual retreat
DESCRIPTION:
URL:https://www.sgmo.ch/en/event/sccl-faculty-and-staff-annual-retreat/
END:VEVENT
BEGIN:VEVENT
DTSTART;TZID=Europe/Berlin:20251120T173000
DTEND;TZID=Europe/Berlin:20251120T194500
DTSTAMP:20260421T232722
CREATED:20251211T132307Z
LAST-MODIFIED:20251211T132307Z
UID:10001600-1763659800-1763667900@www.sgmo.ch
SUMMARY:colloque médical : prise en charge de la douleur
DESCRIPTION:
URL:https://www.sgmo.ch/en/event/colloque-medical-prise-en-charge-de-la-douleur/
END:VEVENT
BEGIN:VEVENT
DTSTART;TZID=Europe/Berlin:20251120T120000
DTEND;TZID=Europe/Berlin:20251120T180000
DTSTAMP:20260421T232722
CREATED:20250919T102323Z
LAST-MODIFIED:20250919T102323Z
UID:10001521-1763640000-1763661600@www.sgmo.ch
SUMMARY:10. Luzerner Brustkrebs-Symposium LUKS 20.11.2025
DESCRIPTION:
URL:https://www.sgmo.ch/en/event/10-luzerner-brustkrebs-symposium-luks-20-11-2025/
END:VEVENT
BEGIN:VEVENT
DTSTART;TZID=Europe/Berlin:20251119T120000
DTEND;TZID=Europe/Berlin:20251119T130000
DTSTAMP:20260421T232722
CREATED:20241219T145100Z
LAST-MODIFIED:20241219T145100Z
UID:10001320-1763553600-1763557200@www.sgmo.ch
SUMMARY:IOSI Teaching conferences 2025
DESCRIPTION:
URL:https://www.sgmo.ch/en/event/iosi-teaching-conferences-2025-9/
END:VEVENT
BEGIN:VEVENT
DTSTART;TZID=Europe/Berlin:20251119T083000
DTEND;TZID=Europe/Berlin:20251121T170000
DTSTAMP:20260421T232722
CREATED:20250808T072321Z
LAST-MODIFIED:20250808T072321Z
UID:10001491-1763541000-1763744400@www.sgmo.ch
SUMMARY:8th Swiss Oncology and Hematology Congress 2025
DESCRIPTION:
URL:https://www.sgmo.ch/en/event/8th-swiss-oncology-and-hematology-congress-2025/
END:VEVENT
BEGIN:VEVENT
DTSTART;VALUE=DATE:20251119
DTEND;VALUE=DATE:20251122
DTSTAMP:20260421T232722
CREATED:20250905T074652Z
LAST-MODIFIED:20250905T074652Z
UID:10001512-1763510400-1763769599@www.sgmo.ch
SUMMARY:SOHC - Swiss Oncology an Hematology Congress 2025
DESCRIPTION:
URL:https://www.sgmo.ch/en/event/sohc-swiss-oncology-an-hematology-congress-2025/
LOCATION:CCB – Congress Center Basel
END:VEVENT
BEGIN:VEVENT
DTSTART;TZID=Europe/Berlin:20251118T121500
DTEND;TZID=Europe/Berlin:20251118T130000
DTSTAMP:20260421T232722
CREATED:20241213T145023Z
LAST-MODIFIED:20250403T082329Z
UID:10001302-1763468100-1763470800@www.sgmo.ch
SUMMARY:Radiothérapie en 2025 chez les patientes atteintes d'un cancer gynécologique
DESCRIPTION:
URL:https://www.sgmo.ch/en/event/radiotherapie-en-2025-chez-les-patientes-atteintes-dun-cancer-gynecologique/
END:VEVENT
BEGIN:VEVENT
DTSTART;TZID=Europe/Berlin:20251117T180000
DTEND;TZID=Europe/Berlin:20251117T200000
DTSTAMP:20260421T232722
CREATED:20251208T142307Z
LAST-MODIFIED:20251208T142307Z
UID:10001596-1763402400-1763409600@www.sgmo.ch
SUMMARY:Acute myeloid leukemia (AML) update: Focus on new developments
DESCRIPTION:
URL:https://www.sgmo.ch/en/event/acute-myeloid-leukemia-aml-update-focus-on-new-developments/
END:VEVENT
BEGIN:VEVENT
DTSTART;TZID=Europe/Berlin:20251114T130000
DTEND;TZID=Europe/Berlin:20251114T140000
DTSTAMP:20260421T232722
CREATED:20241129T165025Z
LAST-MODIFIED:20250128T081745Z
UID:10001284-1763125200-1763128800@www.sgmo.ch
SUMMARY:Onkolunch: Highlights des Kongress «European Society for Medical Ongolocy (ESMO)»
DESCRIPTION:
URL:https://www.sgmo.ch/en/event/onkolunch-15/
END:VEVENT
BEGIN:VEVENT
DTSTART;TZID=Europe/Berlin:20251114T084500
DTEND;TZID=Europe/Berlin:20251115T143000
DTSTAMP:20260421T232722
CREATED:20250612T115116Z
LAST-MODIFIED:20250612T115116Z
UID:10001485-1763109900-1763217000@www.sgmo.ch
SUMMARY:Hematology Retreat
DESCRIPTION:
URL:https://www.sgmo.ch/en/event/hematology-retreat/
END:VEVENT
END:VCALENDAR