BEGIN:VCALENDAR
VERSION:2.0
PRODID:-//SSMO · SGMO · SSOM | Schweizerische Gesellschaft für Medizinische Onkologie - ECPv6.15.17.1//NONSGML v1.0//EN
CALSCALE:GREGORIAN
METHOD:PUBLISH
X-WR-CALNAME:SSMO · SGMO · SSOM | Schweizerische Gesellschaft für Medizinische Onkologie
X-ORIGINAL-URL:https://www.sgmo.ch/en/
X-WR-CALDESC:Events for SSMO · SGMO · SSOM | Schweizerische Gesellschaft für Medizinische Onkologie
REFRESH-INTERVAL;VALUE=DURATION:PT1H
X-Robots-Tag:noindex
X-PUBLISHED-TTL:PT1H
BEGIN:VTIMEZONE
TZID:Europe/Berlin
BEGIN:DAYLIGHT
TZOFFSETFROM:+0100
TZOFFSETTO:+0200
TZNAME:CEST
DTSTART:20240331T010000
END:DAYLIGHT
BEGIN:STANDARD
TZOFFSETFROM:+0200
TZOFFSETTO:+0100
TZNAME:CET
DTSTART:20241027T010000
END:STANDARD
BEGIN:DAYLIGHT
TZOFFSETFROM:+0100
TZOFFSETTO:+0200
TZNAME:CEST
DTSTART:20250330T010000
END:DAYLIGHT
BEGIN:STANDARD
TZOFFSETFROM:+0200
TZOFFSETTO:+0100
TZNAME:CET
DTSTART:20251026T010000
END:STANDARD
BEGIN:DAYLIGHT
TZOFFSETFROM:+0100
TZOFFSETTO:+0200
TZNAME:CEST
DTSTART:20260329T010000
END:DAYLIGHT
BEGIN:STANDARD
TZOFFSETFROM:+0200
TZOFFSETTO:+0100
TZNAME:CET
DTSTART:20261025T010000
END:STANDARD
END:VTIMEZONE
BEGIN:VEVENT
DTSTART;TZID=Europe/Berlin:20251031T090000
DTEND;TZID=Europe/Berlin:20251031T173000
DTSTAMP:20260422T061813
CREATED:20251110T102340Z
LAST-MODIFIED:20251110T102340Z
UID:10001565-1761901200-1761931800@www.sgmo.ch
SUMMARY:ONCO DAY 2025
DESCRIPTION:
URL:https://www.sgmo.ch/en/event/onco-day-2025/
END:VEVENT
BEGIN:VEVENT
DTSTART;TZID=Europe/Berlin:20251030T180000
DTEND;TZID=Europe/Berlin:20251030T200000
DTSTAMP:20260422T061813
CREATED:20240531T125039Z
LAST-MODIFIED:20241216T082136Z
UID:10001118-1761847200-1761854400@www.sgmo.ch
SUMMARY:Myelom: Time to say goodbye zur autologen HSCT?
DESCRIPTION:
URL:https://www.sgmo.ch/en/event/myelom-time-to-say-goodbye-zur-autologen-hsct/
END:VEVENT
BEGIN:VEVENT
DTSTART;TZID=Europe/Berlin:20251030T170000
DTEND;TZID=Europe/Berlin:20251030T193000
DTSTAMP:20260422T061813
CREATED:20251015T084814Z
LAST-MODIFIED:20251015T084814Z
UID:10001543-1761843600-1761852600@www.sgmo.ch
SUMMARY:Onco-Summits 2025
DESCRIPTION:
URL:https://www.sgmo.ch/en/event/onco-summits-2025-2/
END:VEVENT
BEGIN:VEVENT
DTSTART;TZID=Europe/Berlin:20251030T160000
DTEND;TZID=Europe/Berlin:20251030T180000
DTSTAMP:20260422T061813
CREATED:20251127T122323Z
LAST-MODIFIED:20251127T122323Z
UID:10001590-1761840000-1761847200@www.sgmo.ch
SUMMARY:(Winterthurer Ärztefortbildung) Lungentumoren im Fokus - Interdisziplinäre Ansätze und Innovation
DESCRIPTION:
URL:https://www.sgmo.ch/en/event/winterthurer-aerztefortbildung-lungentumoren-im-fokus-interdisziplinaere-ansaetze-und-innovation/
END:VEVENT
BEGIN:VEVENT
DTSTART;TZID=Europe/Berlin:20251030T084500
DTEND;TZID=Europe/Berlin:20251030T181500
DTSTAMP:20260422T061813
CREATED:20250916T082321Z
LAST-MODIFIED:20250916T082321Z
UID:10001515-1761813900-1761848100@www.sgmo.ch
SUMMARY:2ème Journée Romande de Dermato-Oncologie
DESCRIPTION:
URL:https://www.sgmo.ch/en/event/2eme-journee-romande-de-dermato-oncologie/
END:VEVENT
BEGIN:VEVENT
DTSTART;TZID=Europe/Berlin:20251030T081500
DTEND;TZID=Europe/Berlin:20251030T090000
DTSTAMP:20260422T061813
CREATED:20241018T125133Z
LAST-MODIFIED:20241018T125133Z
UID:10001219-1761812100-1761814800@www.sgmo.ch
SUMMARY:Oncogénétique
DESCRIPTION:
URL:https://www.sgmo.ch/en/event/oncogenetique/
END:VEVENT
BEGIN:VEVENT
DTSTART;TZID=Europe/Berlin:20251029T170000
DTEND;TZID=Europe/Berlin:20251029T210000
DTSTAMP:20260422T061813
CREATED:20250916T082323Z
LAST-MODIFIED:20250916T082323Z
UID:10001516-1761757200-1761771600@www.sgmo.ch
SUMMARY:PathOnConnect
DESCRIPTION:
URL:https://www.sgmo.ch/en/event/pathonconnect/
END:VEVENT
BEGIN:VEVENT
DTSTART;TZID=Europe/Berlin:20251029T170000
DTEND;TZID=Europe/Berlin:20251029T180000
DTSTAMP:20260422T061813
CREATED:20250226T075016Z
LAST-MODIFIED:20250226T075016Z
UID:10001391-1761757200-1761760800@www.sgmo.ch
SUMMARY:SpeedUPdating series: Practice Changing Trials Post-ESMO & News (1h)
DESCRIPTION:
URL:https://www.sgmo.ch/en/event/speedupdating-series-practice-changing-trials-post-esmo-news-1h/
END:VEVENT
BEGIN:VEVENT
DTSTART;TZID=Europe/Berlin:20251029T120000
DTEND;TZID=Europe/Berlin:20251029T130000
DTSTAMP:20260422T061813
CREATED:20241219T145100Z
LAST-MODIFIED:20241219T145100Z
UID:10001319-1761739200-1761742800@www.sgmo.ch
SUMMARY:IOSI Teaching conferences 2025
DESCRIPTION:
URL:https://www.sgmo.ch/en/event/iosi-teaching-conferences-2025-8/
END:VEVENT
BEGIN:VEVENT
DTSTART;TZID=Europe/Berlin:20251028T133000
DTEND;TZID=Europe/Berlin:20251028T180000
DTSTAMP:20260422T061813
CREATED:20250819T132311Z
LAST-MODIFIED:20250819T132311Z
UID:10001501-1761658200-1761674400@www.sgmo.ch
SUMMARY:Patientenkompetenz 2025: Burnout prevention for doctors
DESCRIPTION:
URL:https://www.sgmo.ch/en/event/patientenkompetenz-2025-burnout-prevention-for-doctors/
END:VEVENT
BEGIN:VEVENT
DTSTART;TZID=Europe/Berlin:20251028T121500
DTEND;TZID=Europe/Berlin:20251028T130000
DTSTAMP:20260422T061813
CREATED:20241213T145023Z
LAST-MODIFIED:20250403T082239Z
UID:10001301-1761653700-1761656400@www.sgmo.ch
SUMMARY:Retour de l'ESMO
DESCRIPTION:
URL:https://www.sgmo.ch/en/event/retoiur-de-lesmo/
END:VEVENT
BEGIN:VEVENT
DTSTART;TZID=Europe/Berlin:20251024T160000
DTEND;TZID=Europe/Berlin:20251024T170000
DTSTAMP:20260422T061813
CREATED:20250214T105025Z
LAST-MODIFIED:20250214T105025Z
UID:10001376-1761321600-1761325200@www.sgmo.ch
SUMMARY:Special Guest
DESCRIPTION:
URL:https://www.sgmo.ch/en/event/special-guest/
END:VEVENT
BEGIN:VEVENT
DTSTART;VALUE=DATE:20251024
DTEND;VALUE=DATE:20251028
DTSTAMP:20260422T061813
CREATED:20250812T084046Z
LAST-MODIFIED:20250812T084046Z
UID:10001494-1761264000-1761609599@www.sgmo.ch
SUMMARY:Jahrestagung DGHO\, OeGHO\, SGH und SGMO 2025
DESCRIPTION:
URL:https://www.sgmo.ch/en/event/jahrestagung-dgho-oegho-sgh-und-sgmo-2025/
LOCATION:Confex\, Messeplatz 1\, 50679 Köln (D)
END:VEVENT
BEGIN:VEVENT
DTSTART;TZID=Europe/Berlin:20251023T173000
DTEND;TZID=Europe/Berlin:20251023T194500
DTSTAMP:20260422T061813
CREATED:20250917T082311Z
LAST-MODIFIED:20250917T082311Z
UID:10001518-1761240600-1761248700@www.sgmo.ch
SUMMARY:ESMO Update 2025
DESCRIPTION:
URL:https://www.sgmo.ch/en/event/esmo-update-2025/
END:VEVENT
BEGIN:VEVENT
DTSTART;TZID=Europe/Berlin:20251023T150000
DTEND;TZID=Europe/Berlin:20251023T180000
DTSTAMP:20260422T061813
CREATED:20250415T065024Z
LAST-MODIFIED:20250415T065024Z
UID:10001434-1761231600-1761242400@www.sgmo.ch
SUMMARY:16. gemeinsame Fortbildung Netzwerk Senosuisse und Brutzentrum Thurgau
DESCRIPTION:
URL:https://www.sgmo.ch/en/event/16-gemeinsame-fortbildung-netzwerk-senosuisse-und-brutzentrum-thurgau/
END:VEVENT
BEGIN:VEVENT
DTSTART;TZID=Europe/Berlin:20251022T180000
DTEND;TZID=Europe/Berlin:20251022T200000
DTSTAMP:20260422T061813
CREATED:20251028T132312Z
LAST-MODIFIED:20251028T132312Z
UID:10001550-1761156000-1761163200@www.sgmo.ch
SUMMARY:Neue Wege in der Senologie Gemeinsam für unsere Patientinnen
DESCRIPTION:
URL:https://www.sgmo.ch/en/event/neue-wege-in-der-senologie-gemeinsam-fuer-unsere-patientinnen/
END:VEVENT
BEGIN:VEVENT
DTSTART;TZID=Europe/Berlin:20251022T173000
DTEND;TZID=Europe/Berlin:20251022T200000
DTSTAMP:20260422T061813
CREATED:20251022T102346Z
LAST-MODIFIED:20251022T102346Z
UID:10001547-1761154200-1761163200@www.sgmo.ch
SUMMARY:healthbook PostESMO 2025
DESCRIPTION:
URL:https://www.sgmo.ch/en/event/healthbook-postesmo-2025/
END:VEVENT
BEGIN:VEVENT
DTSTART;TZID=Europe/Berlin:20251022T173000
DTEND;TZID=Europe/Berlin:20251022T190000
DTSTAMP:20260422T061813
CREATED:20250905T122311Z
LAST-MODIFIED:20250905T122311Z
UID:10001513-1761154200-1761159600@www.sgmo.ch
SUMMARY:Prostata Abend
DESCRIPTION:
URL:https://www.sgmo.ch/en/event/prostata-abend/
END:VEVENT
BEGIN:VEVENT
DTSTART;TZID=Europe/Berlin:20251021T174500
DTEND;TZID=Europe/Berlin:20251021T183000
DTSTAMP:20260422T061813
CREATED:20260302T082416Z
LAST-MODIFIED:20260302T082416Z
UID:10001709-1761068700-1761071400@www.sgmo.ch
SUMMARY:Tumorboard-Fortbildung: Advances in Oligometastatic Pancreatic Cancer: Insights from the EXTEND Trial
DESCRIPTION:
URL:https://www.sgmo.ch/en/event/tumorboard-fortbildung-advances-in-oligometastatic-pancreatic-cancer-insights-from-the-extend-trial/
END:VEVENT
BEGIN:VEVENT
DTSTART;TZID=Europe/Berlin:20251017T183000
DTEND;TZID=Europe/Berlin:20251017T213000
DTSTAMP:20260422T061813
CREATED:20250919T102319Z
LAST-MODIFIED:20250919T102319Z
UID:10001519-1760725800-1760736600@www.sgmo.ch
SUMMARY:PreESMO Swiss Perspectives
DESCRIPTION:
URL:https://www.sgmo.ch/en/event/preesmo-swiss-perspectives/
END:VEVENT
BEGIN:VEVENT
DTSTART;TZID=Europe/Berlin:20251017T083000
DTEND;TZID=Europe/Berlin:20251017T123000
DTSTAMP:20260422T061813
CREATED:20250917T082307Z
LAST-MODIFIED:20250917T082307Z
UID:10001517-1760689800-1760704200@www.sgmo.ch
SUMMARY:l'IA dans le contexte du cancer du sein
DESCRIPTION:
URL:https://www.sgmo.ch/en/event/lia-dans-le-contexte-du-cancer-du-sein/
END:VEVENT
BEGIN:VEVENT
DTSTART;TZID=Europe/Berlin:20251014T181500
DTEND;TZID=Europe/Berlin:20251014T200000
DTSTAMP:20260422T061813
CREATED:20250926T062309Z
LAST-MODIFIED:20250926T062309Z
UID:10001528-1760465700-1760472000@www.sgmo.ch
SUMMARY:Diagnosi precoce del tumore prostatico. Nuovi metodi di indagine e diagnosi.
DESCRIPTION:
URL:https://www.sgmo.ch/en/event/diagnosi-precoce-del-tumore-prostatico-nuovi-metodi-di-indagine-e-diagnosi/
END:VEVENT
BEGIN:VEVENT
DTSTART;TZID=Europe/Berlin:20251009T180000
DTEND;TZID=Europe/Berlin:20251009T210000
DTSTAMP:20260422T061813
CREATED:20250829T142313Z
LAST-MODIFIED:20250829T142313Z
UID:10001509-1760032800-1760043600@www.sgmo.ch
SUMMARY:Opinioni a Confronto in Oncologia. Aggiornamento sul carcinoma mammario
DESCRIPTION:
URL:https://www.sgmo.ch/en/event/opinioni-a-confronto-in-oncologia-aggiornamento-sul-carcinoma-mammario-3/
END:VEVENT
BEGIN:VEVENT
DTSTART;TZID=Europe/Berlin:20251009T150000
DTEND;TZID=Europe/Berlin:20251009T183000
DTSTAMP:20260422T061813
CREATED:20251002T102311Z
LAST-MODIFIED:20251002T102311Z
UID:10001534-1760022000-1760034600@www.sgmo.ch
SUMMARY:1er Symposium Octobre Rose par l'ARCS
DESCRIPTION:
URL:https://www.sgmo.ch/en/event/1er-symposium-octobre-rose-par-larcs/
END:VEVENT
BEGIN:VEVENT
DTSTART;TZID=Europe/Berlin:20251009T130000
DTEND;TZID=Europe/Berlin:20251009T173000
DTSTAMP:20260422T061813
CREATED:20250609T155025Z
LAST-MODIFIED:20250609T155025Z
UID:10001477-1760014800-1760031000@www.sgmo.ch
SUMMARY:Genitourinary Cancers
DESCRIPTION:
URL:https://www.sgmo.ch/en/event/genitourinary-cancers/
END:VEVENT
BEGIN:VEVENT
DTSTART;TZID=Europe/Berlin:20251009T090000
DTEND;TZID=Europe/Berlin:20251009T160000
DTSTAMP:20260422T061813
CREATED:20250527T165056Z
LAST-MODIFIED:20250527T165056Z
UID:10001468-1760000400-1760025600@www.sgmo.ch
SUMMARY:La tua mano è la mia pace. Quando il contatto diventa cura
DESCRIPTION:
URL:https://www.sgmo.ch/en/event/la-tua-mano-e-la-mia-pace-quando-il-contatto-diventa-cura/
END:VEVENT
BEGIN:VEVENT
DTSTART;TZID=Europe/Berlin:20251009T084500
DTEND;TZID=Europe/Berlin:20251010T164500
DTSTAMP:20260422T061813
CREATED:20250519T145032Z
LAST-MODIFIED:20250519T145032Z
UID:10001464-1759999500-1760114700@www.sgmo.ch
SUMMARY:CAS in Sex- and Gender-Specific Medicine Module "Oncology"
DESCRIPTION:
URL:https://www.sgmo.ch/en/event/cas-in-sex-and-gender-specific-medicine-module-oncology/
END:VEVENT
BEGIN:VEVENT
DTSTART;TZID=Europe/Berlin:20251007T180000
DTEND;TZID=Europe/Berlin:20251007T200000
DTSTAMP:20260422T061813
CREATED:20250919T102321Z
LAST-MODIFIED:20250919T102321Z
UID:10001520-1759860000-1759867200@www.sgmo.ch
SUMMARY:Optimizing Ovarian Cancer Treatment: Expert Perspectives on Evolving Standards
DESCRIPTION:
URL:https://www.sgmo.ch/en/event/optimizing-ovarian-cancer-treatment-expert-perspectives-on-evolving-standards-2/
END:VEVENT
BEGIN:VEVENT
DTSTART;TZID=Europe/Berlin:20251007T120000
DTEND;TZID=Europe/Berlin:20251007T140000
DTSTAMP:20260422T061813
CREATED:20250923T122316Z
LAST-MODIFIED:20250923T122316Z
UID:10001526-1759838400-1759845600@www.sgmo.ch
SUMMARY:Lunch and Learn Immunothérapies du cancer : Virage parfait ou dérapage incontrôlé ?
DESCRIPTION:
URL:https://www.sgmo.ch/en/event/lunch-and-learn-immunotherapies-du-cancer-virage-parfait-ou-derapage-incontrole/
END:VEVENT
BEGIN:VEVENT
DTSTART;TZID=Europe/Berlin:20251007T094500
DTEND;TZID=Europe/Berlin:20251007T120000
DTSTAMP:20260422T061813
CREATED:20250417T095041Z
LAST-MODIFIED:20250417T095041Z
UID:10001439-1759830300-1759838400@www.sgmo.ch
SUMMARY:Octobre rose 2025 - Demi-journée scientifique
DESCRIPTION:
URL:https://www.sgmo.ch/en/event/octobre-rose-2025-demi-journee-scientifique/
END:VEVENT
END:VCALENDAR