BEGIN:VCALENDAR
VERSION:2.0
PRODID:-//SSMO · SGMO · SSOM | Schweizerische Gesellschaft für Medizinische Onkologie - ECPv6.15.17.1//NONSGML v1.0//EN
CALSCALE:GREGORIAN
METHOD:PUBLISH
X-WR-CALNAME:SSMO · SGMO · SSOM | Schweizerische Gesellschaft für Medizinische Onkologie
X-ORIGINAL-URL:https://www.sgmo.ch/en/
X-WR-CALDESC:Events for SSMO · SGMO · SSOM | Schweizerische Gesellschaft für Medizinische Onkologie
REFRESH-INTERVAL;VALUE=DURATION:PT1H
X-Robots-Tag:noindex
X-PUBLISHED-TTL:PT1H
BEGIN:VTIMEZONE
TZID:Europe/Berlin
BEGIN:DAYLIGHT
TZOFFSETFROM:+0100
TZOFFSETTO:+0200
TZNAME:CEST
DTSTART:20240331T010000
END:DAYLIGHT
BEGIN:STANDARD
TZOFFSETFROM:+0200
TZOFFSETTO:+0100
TZNAME:CET
DTSTART:20241027T010000
END:STANDARD
BEGIN:DAYLIGHT
TZOFFSETFROM:+0100
TZOFFSETTO:+0200
TZNAME:CEST
DTSTART:20250330T010000
END:DAYLIGHT
BEGIN:STANDARD
TZOFFSETFROM:+0200
TZOFFSETTO:+0100
TZNAME:CET
DTSTART:20251026T010000
END:STANDARD
BEGIN:DAYLIGHT
TZOFFSETFROM:+0100
TZOFFSETTO:+0200
TZNAME:CEST
DTSTART:20260329T010000
END:DAYLIGHT
BEGIN:STANDARD
TZOFFSETFROM:+0200
TZOFFSETTO:+0100
TZNAME:CET
DTSTART:20261025T010000
END:STANDARD
END:VTIMEZONE
BEGIN:VEVENT
DTSTART;TZID=Europe/Berlin:20251009T130000
DTEND;TZID=Europe/Berlin:20251009T173000
DTSTAMP:20260422T100522
CREATED:20250609T155025Z
LAST-MODIFIED:20250609T155025Z
UID:10001477-1760014800-1760031000@www.sgmo.ch
SUMMARY:Genitourinary Cancers
DESCRIPTION:
URL:https://www.sgmo.ch/en/event/genitourinary-cancers/
END:VEVENT
BEGIN:VEVENT
DTSTART;TZID=Europe/Berlin:20251009T090000
DTEND;TZID=Europe/Berlin:20251009T160000
DTSTAMP:20260422T100522
CREATED:20250527T165056Z
LAST-MODIFIED:20250527T165056Z
UID:10001468-1760000400-1760025600@www.sgmo.ch
SUMMARY:La tua mano è la mia pace. Quando il contatto diventa cura
DESCRIPTION:
URL:https://www.sgmo.ch/en/event/la-tua-mano-e-la-mia-pace-quando-il-contatto-diventa-cura/
END:VEVENT
BEGIN:VEVENT
DTSTART;TZID=Europe/Berlin:20251009T084500
DTEND;TZID=Europe/Berlin:20251010T164500
DTSTAMP:20260422T100522
CREATED:20250519T145032Z
LAST-MODIFIED:20250519T145032Z
UID:10001464-1759999500-1760114700@www.sgmo.ch
SUMMARY:CAS in Sex- and Gender-Specific Medicine Module "Oncology"
DESCRIPTION:
URL:https://www.sgmo.ch/en/event/cas-in-sex-and-gender-specific-medicine-module-oncology/
END:VEVENT
BEGIN:VEVENT
DTSTART;TZID=Europe/Berlin:20251007T180000
DTEND;TZID=Europe/Berlin:20251007T200000
DTSTAMP:20260422T100522
CREATED:20250919T102321Z
LAST-MODIFIED:20250919T102321Z
UID:10001520-1759860000-1759867200@www.sgmo.ch
SUMMARY:Optimizing Ovarian Cancer Treatment: Expert Perspectives on Evolving Standards
DESCRIPTION:
URL:https://www.sgmo.ch/en/event/optimizing-ovarian-cancer-treatment-expert-perspectives-on-evolving-standards-2/
END:VEVENT
BEGIN:VEVENT
DTSTART;TZID=Europe/Berlin:20251007T120000
DTEND;TZID=Europe/Berlin:20251007T140000
DTSTAMP:20260422T100522
CREATED:20250923T122316Z
LAST-MODIFIED:20250923T122316Z
UID:10001526-1759838400-1759845600@www.sgmo.ch
SUMMARY:Lunch and Learn Immunothérapies du cancer : Virage parfait ou dérapage incontrôlé ?
DESCRIPTION:
URL:https://www.sgmo.ch/en/event/lunch-and-learn-immunotherapies-du-cancer-virage-parfait-ou-derapage-incontrole/
END:VEVENT
BEGIN:VEVENT
DTSTART;TZID=Europe/Berlin:20251007T094500
DTEND;TZID=Europe/Berlin:20251007T120000
DTSTAMP:20260422T100522
CREATED:20250417T095041Z
LAST-MODIFIED:20250417T095041Z
UID:10001439-1759830300-1759838400@www.sgmo.ch
SUMMARY:Octobre rose 2025 - Demi-journée scientifique
DESCRIPTION:
URL:https://www.sgmo.ch/en/event/octobre-rose-2025-demi-journee-scientifique/
END:VEVENT
BEGIN:VEVENT
DTSTART;TZID=Europe/Berlin:20251002T180000
DTEND;TZID=Europe/Berlin:20251002T193000
DTSTAMP:20260422T100522
CREATED:20251007T132304Z
LAST-MODIFIED:20251007T132304Z
UID:10001538-1759428000-1759433400@www.sgmo.ch
SUMMARY:Colloque Octobre Rose 2025 : L'importance d’un accompagnement global
DESCRIPTION:
URL:https://www.sgmo.ch/en/event/colloque-octobre-rose-2025-limportance-dun-accompagnement-global/
END:VEVENT
BEGIN:VEVENT
DTSTART;TZID=Europe/Berlin:20251002T180000
DTEND;TZID=Europe/Berlin:20251002T193000
DTSTAMP:20260422T100522
CREATED:20250923T122318Z
LAST-MODIFIED:20250923T122318Z
UID:10001527-1759428000-1759433400@www.sgmo.ch
SUMMARY:Checkpoint Inhibitiors in Upper GI Cancer
DESCRIPTION:
URL:https://www.sgmo.ch/en/event/checkpoint-inhibitiors-in-upper-gi-cancer/
END:VEVENT
BEGIN:VEVENT
DTSTART;TZID=Europe/Berlin:20251002T123000
DTEND;TZID=Europe/Berlin:20251002T133000
DTSTAMP:20260422T100522
CREATED:20250129T135015Z
LAST-MODIFIED:20250129T135015Z
UID:10001355-1759408200-1759411800@www.sgmo.ch
SUMMARY:Cannabis – Potentiale und Verwendung in der Onkologie und Palliativmedizin
DESCRIPTION:
URL:https://www.sgmo.ch/en/event/cannabis-potentiale-und-verwendung-in-der-onkologie-und-palliativmedizin/
END:VEVENT
BEGIN:VEVENT
DTSTART;TZID=Europe/Berlin:20251001T180000
DTEND;TZID=Europe/Berlin:20251001T201500
DTSTAMP:20260422T100522
CREATED:20250827T102408Z
LAST-MODIFIED:20250827T102408Z
UID:10001504-1759341600-1759349700@www.sgmo.ch
SUMMARY:Echange d'expériences cliniques. Mise à jour sur l'onco-hématologie
DESCRIPTION:
URL:https://www.sgmo.ch/en/event/echange-dexperiences-cliniques-mise-a-jour-sur-lonco-hematologie/
END:VEVENT
BEGIN:VEVENT
DTSTART;TZID=Europe/Berlin:20250930T181500
DTEND;TZID=Europe/Berlin:20250930T200000
DTSTAMP:20260422T100522
CREATED:20250926T062313Z
LAST-MODIFIED:20250926T062313Z
UID:10001529-1759256100-1759262400@www.sgmo.ch
SUMMARY:Lo screening salva la vita\, i risultati del progetto pilota all’EOC dedicato allo screening del polmone
DESCRIPTION:
URL:https://www.sgmo.ch/en/event/lo-screening-salva-la-vita-i-risultati-del-progetto-pilota-alleoc-dedicato-allo-screening-del-polmone/
END:VEVENT
BEGIN:VEVENT
DTSTART;TZID=Europe/Berlin:20250929T170000
DTEND;TZID=Europe/Berlin:20250929T190000
DTSTAMP:20260422T100522
CREATED:20250923T121431Z
LAST-MODIFIED:20250923T121431Z
UID:10001525-1759165200-1759172400@www.sgmo.ch
SUMMARY:Standard of Care in Melanoma – Views and News 2025
DESCRIPTION:
URL:https://www.sgmo.ch/en/event/standard-of-care-in-melanoma-views-and-news-2025/
END:VEVENT
BEGIN:VEVENT
DTSTART;TZID=Europe/Berlin:20250926T093000
DTEND;TZID=Europe/Berlin:20250926T164500
DTSTAMP:20260422T100522
CREATED:20250409T145036Z
LAST-MODIFIED:20250409T145036Z
UID:10001425-1758879000-1758905100@www.sgmo.ch
SUMMARY:International Lung Cancer Summit 2025
DESCRIPTION:
URL:https://www.sgmo.ch/en/event/international-lung-cancer-summit-2025/
END:VEVENT
BEGIN:VEVENT
DTSTART;TZID=Europe/Berlin:20250926T090000
DTEND;TZID=Europe/Berlin:20250927T150000
DTSTAMP:20260422T100522
CREATED:20250506T125047Z
LAST-MODIFIED:20250506T125047Z
UID:10001450-1758877200-1758985200@www.sgmo.ch
SUMMARY:17th Educational Course in Genetic Counseling
DESCRIPTION:
URL:https://www.sgmo.ch/en/event/17th-educational-course-in-genetic-counseling/
END:VEVENT
BEGIN:VEVENT
DTSTART;TZID=Europe/Berlin:20250925T150000
DTEND;TZID=Europe/Berlin:20250925T180000
DTSTAMP:20260422T100522
CREATED:20250610T085028Z
LAST-MODIFIED:20250610T085028Z
UID:10001482-1758812400-1758823200@www.sgmo.ch
SUMMARY:Gemeinsam stark gegen Brustkrebs: Interdisziplinäre Wege zu einer umfassenden Versorgung
DESCRIPTION:
URL:https://www.sgmo.ch/en/event/gemeinsam-stark-gegen-brustkrebs-interdisziplinaere-wege-zu-einer-umfassenden-versorgung-2/
END:VEVENT
BEGIN:VEVENT
DTSTART;TZID=Europe/Berlin:20250925T130000
DTEND;TZID=Europe/Berlin:20250925T173000
DTSTAMP:20260422T100522
CREATED:20250609T155025Z
LAST-MODIFIED:20250609T155025Z
UID:10001476-1758805200-1758821400@www.sgmo.ch
SUMMARY:Lung Cancer
DESCRIPTION:
URL:https://www.sgmo.ch/en/event/lung-cancer/
END:VEVENT
BEGIN:VEVENT
DTSTART;TZID=Europe/Berlin:20250925T081500
DTEND;TZID=Europe/Berlin:20250925T090000
DTSTAMP:20260422T100522
CREATED:20241018T125132Z
LAST-MODIFIED:20241018T125132Z
UID:10001218-1758788100-1758790800@www.sgmo.ch
SUMMARY:Mortalité – Morbidité
DESCRIPTION:
URL:https://www.sgmo.ch/en/event/mortalite-morbidite-3/
END:VEVENT
BEGIN:VEVENT
DTSTART;TZID=Europe/Berlin:20250924T180000
DTEND;TZID=Europe/Berlin:20250924T200000
DTSTAMP:20260422T100522
CREATED:20250819T132310Z
LAST-MODIFIED:20250819T132310Z
UID:10001500-1758736800-1758744000@www.sgmo.ch
SUMMARY:Optimizing Ovarian Cancer Treatment: Expert Perspectives on Evolving Standards
DESCRIPTION:
URL:https://www.sgmo.ch/en/event/optimizing-ovarian-cancer-treatment-expert-perspectives-on-evolving-standards/
END:VEVENT
BEGIN:VEVENT
DTSTART;TZID=Europe/Berlin:20250924T120000
DTEND;TZID=Europe/Berlin:20250924T130000
DTSTAMP:20260422T100522
CREATED:20241219T145100Z
LAST-MODIFIED:20241219T145100Z
UID:10001318-1758715200-1758718800@www.sgmo.ch
SUMMARY:IOSI Teaching conferences 2025
DESCRIPTION:
URL:https://www.sgmo.ch/en/event/iosi-teaching-conferences-2025-7/
END:VEVENT
BEGIN:VEVENT
DTSTART;TZID=Europe/Berlin:20250923T180000
DTEND;TZID=Europe/Berlin:20250923T210000
DTSTAMP:20260422T100522
CREATED:20250827T103648Z
LAST-MODIFIED:20250827T103648Z
UID:10001505-1758650400-1758661200@www.sgmo.ch
SUMMARY:Opinioni a Confronto in Oncologia. Tumori del tratto urogenitale
DESCRIPTION:
URL:https://www.sgmo.ch/en/event/opinioni-a-confronto-in-oncologia-tumori-del-tratto-urogenitale-3/
END:VEVENT
BEGIN:VEVENT
DTSTART;TZID=Europe/Berlin:20250923T160000
DTEND;TZID=Europe/Berlin:20250923T183000
DTSTAMP:20260422T100522
CREATED:20250320T085016Z
LAST-MODIFIED:20250320T085016Z
UID:10001406-1758643200-1758652200@www.sgmo.ch
SUMMARY:From CAR T Cells and polyclonal antibodies: current usage and beyond
DESCRIPTION:
URL:https://www.sgmo.ch/en/event/from-car-t-cells-and-polyclonal-antibodies-current-usage-and-beyond/
END:VEVENT
BEGIN:VEVENT
DTSTART;TZID=Europe/Berlin:20250920T090000
DTEND;TZID=Europe/Berlin:20250920T163000
DTSTAMP:20260422T100522
CREATED:20250422T095047Z
LAST-MODIFIED:20250422T095047Z
UID:10001441-1758358800-1758385800@www.sgmo.ch
SUMMARY:Neues aus der Forschung in der Integrativen Medizin
DESCRIPTION:
URL:https://www.sgmo.ch/en/event/neues-aus-der-forschung-in-der-integrativen-medizin-2/
END:VEVENT
BEGIN:VEVENT
DTSTART;TZID=Europe/Berlin:20250919T160000
DTEND;TZID=Europe/Berlin:20250919T170000
DTSTAMP:20260422T100522
CREATED:20250214T105025Z
LAST-MODIFIED:20250214T105025Z
UID:10001375-1758297600-1758301200@www.sgmo.ch
SUMMARY:Case Reports Lymphoma
DESCRIPTION:
URL:https://www.sgmo.ch/en/event/case-reports-lymphoma/
END:VEVENT
BEGIN:VEVENT
DTSTART;TZID=Europe/Berlin:20250919T130000
DTEND;TZID=Europe/Berlin:20250919T140000
DTSTAMP:20260422T100522
CREATED:20241129T165024Z
LAST-MODIFIED:20250128T082233Z
UID:10001282-1758286800-1758290400@www.sgmo.ch
SUMMARY:Onkolunch: Lung cancer drug development – what will make the cut?
DESCRIPTION:
URL:https://www.sgmo.ch/en/event/onkolunch-13/
END:VEVENT
BEGIN:VEVENT
DTSTART;TZID=Europe/Berlin:20250918T180000
DTEND;TZID=Europe/Berlin:20250918T200000
DTSTAMP:20260422T100522
CREATED:20250821T172429Z
LAST-MODIFIED:20250821T172429Z
UID:10001503-1758218400-1758225600@www.sgmo.ch
SUMMARY:Toxicités émergentes en hématologie et en oncologie
DESCRIPTION:
URL:https://www.sgmo.ch/en/event/toxicites-emergentes-en-hematologie-et-en-oncologie/
END:VEVENT
BEGIN:VEVENT
DTSTART;TZID=Europe/Berlin:20250918T173000
DTEND;TZID=Europe/Berlin:20250918T183000
DTSTAMP:20260422T100522
CREATED:20250814T072321Z
LAST-MODIFIED:20250814T072321Z
UID:10001496-1758216600-1758220200@www.sgmo.ch
SUMMARY:Praktische Umsetzung von Tardoc im Onkologie/Hämatologie Alltag
DESCRIPTION:
URL:https://www.sgmo.ch/en/event/praktische-umsetzung-von-tardoc-im-onkologie-haematologie-alltag/
END:VEVENT
BEGIN:VEVENT
DTSTART;TZID=Europe/Berlin:20250918T150000
DTEND;TZID=Europe/Berlin:20250918T180000
DTSTAMP:20260422T100522
CREATED:20250414T105048Z
LAST-MODIFIED:20250414T105048Z
UID:10001429-1758207600-1758218400@www.sgmo.ch
SUMMARY:7th Swiss ECHO (Exchange in Clinical Hematology and Oncology)
DESCRIPTION:
URL:https://www.sgmo.ch/en/event/7th-swiss-echo-exchange-in-clinical-hematology-and-oncology/
END:VEVENT
BEGIN:VEVENT
DTSTART;TZID=Europe/Berlin:20250918T131500
DTEND;TZID=Europe/Berlin:20250918T180000
DTSTAMP:20260422T100522
CREATED:20250919T102324Z
LAST-MODIFIED:20250919T102324Z
UID:10001522-1758201300-1758218400@www.sgmo.ch
SUMMARY:Cancer de l'ovaire
DESCRIPTION:
URL:https://www.sgmo.ch/en/event/cancer-de-lovaire/
END:VEVENT
BEGIN:VEVENT
DTSTART;TZID=Europe/Berlin:20250918T130000
DTEND;TZID=Europe/Berlin:20250918T170000
DTSTAMP:20260422T100522
CREATED:20241213T145023Z
LAST-MODIFIED:20250403T081754Z
UID:10001299-1758200400-1758214800@www.sgmo.ch
SUMMARY:Après-midi dédié au cancer de l'ovaire
DESCRIPTION:
URL:https://www.sgmo.ch/en/event/apres-midi-dedie-au-cancer-de-lovaire-2/
END:VEVENT
BEGIN:VEVENT
DTSTART;TZID=Europe/Berlin:20250918T090000
DTEND;TZID=Europe/Berlin:20250919T150000
DTSTAMP:20260422T100522
CREATED:20250702T135137Z
LAST-MODIFIED:20250702T135137Z
UID:10001490-1758186000-1758294000@www.sgmo.ch
SUMMARY:MIBB Symposium & Annual Congress of the SSS-SGS
DESCRIPTION:
URL:https://www.sgmo.ch/en/event/mibb-symposium-annual-congress-of-the-sss-sgs/
END:VEVENT
END:VCALENDAR