BEGIN:VCALENDAR
VERSION:2.0
PRODID:-//SSMO · SGMO · SSOM | Schweizerische Gesellschaft für Medizinische Onkologie - ECPv6.15.17.1//NONSGML v1.0//EN
CALSCALE:GREGORIAN
METHOD:PUBLISH
X-ORIGINAL-URL:https://www.sgmo.ch/en/
X-WR-CALDESC:Events for SSMO · SGMO · SSOM | Schweizerische Gesellschaft für Medizinische Onkologie
REFRESH-INTERVAL;VALUE=DURATION:PT1H
X-Robots-Tag:noindex
X-PUBLISHED-TTL:PT1H
BEGIN:VTIMEZONE
TZID:Europe/Berlin
BEGIN:DAYLIGHT
TZOFFSETFROM:+0100
TZOFFSETTO:+0200
TZNAME:CEST
DTSTART:20240331T010000
END:DAYLIGHT
BEGIN:STANDARD
TZOFFSETFROM:+0200
TZOFFSETTO:+0100
TZNAME:CET
DTSTART:20241027T010000
END:STANDARD
BEGIN:DAYLIGHT
TZOFFSETFROM:+0100
TZOFFSETTO:+0200
TZNAME:CEST
DTSTART:20250330T010000
END:DAYLIGHT
BEGIN:STANDARD
TZOFFSETFROM:+0200
TZOFFSETTO:+0100
TZNAME:CET
DTSTART:20251026T010000
END:STANDARD
BEGIN:DAYLIGHT
TZOFFSETFROM:+0100
TZOFFSETTO:+0200
TZNAME:CEST
DTSTART:20260329T010000
END:DAYLIGHT
BEGIN:STANDARD
TZOFFSETFROM:+0200
TZOFFSETTO:+0100
TZNAME:CET
DTSTART:20261025T010000
END:STANDARD
END:VTIMEZONE
BEGIN:VEVENT
DTSTART;TZID=Europe/Berlin:20250822T130000
DTEND;TZID=Europe/Berlin:20250822T140000
DTSTAMP:20260424T155700
CREATED:20241129T165024Z
LAST-MODIFIED:20250128T082333Z
UID:10001281-1755867600-1755871200@www.sgmo.ch
SUMMARY:Onkolunch: Highlights des Kongress «European Hematology Association (EHA)»
DESCRIPTION:
URL:https://www.sgmo.ch/en/event/onkolunch-12/
END:VEVENT
BEGIN:VEVENT
DTSTART;TZID=Europe/Berlin:20250821T180000
DTEND;TZID=Europe/Berlin:20250821T200000
DTSTAMP:20260424T155700
CREATED:20240531T125039Z
LAST-MODIFIED:20240531T125039Z
UID:10001117-1755799200-1755806400@www.sgmo.ch
SUMMARY:CLL und andere niedrigmaligne Lymphome: No more Chemo?
DESCRIPTION:
URL:https://www.sgmo.ch/en/event/cll-und-andere-niedrigmaligne-lymphome-no-more-chemo/
END:VEVENT
BEGIN:VEVENT
DTSTART;TZID=Europe/Berlin:20250821T090000
DTEND;TZID=Europe/Berlin:20250822T170000
DTSTAMP:20260424T155700
CREATED:20250507T085046Z
LAST-MODIFIED:20250507T085046Z
UID:10001451-1755766800-1755882000@www.sgmo.ch
SUMMARY:Writing Skill Course/Verfassen naturwissenschaftlicher Publikationen
DESCRIPTION:
URL:https://www.sgmo.ch/en/event/writing-skill-course-verfassen-naturwissenschaftlicher-publikationen/
END:VEVENT
BEGIN:VEVENT
DTSTART;TZID=Europe/Berlin:20250818T123000
DTEND;TZID=Europe/Berlin:20251208T133000
DTSTAMP:20260424T155700
CREATED:20250911T112339Z
LAST-MODIFIED:20250911T112339Z
UID:10001514-1755520200-1765200600@www.sgmo.ch
SUMMARY:Onkolunch
DESCRIPTION:
URL:https://www.sgmo.ch/en/event/onkolunch-18/
END:VEVENT
BEGIN:VEVENT
DTSTART;TZID=Europe/Berlin:20250711T121500
DTEND;TZID=Europe/Berlin:20251212T131500
DTSTAMP:20260424T155700
CREATED:20250602T145020Z
LAST-MODIFIED:20250602T145020Z
UID:10001470-1752236100-1765545300@www.sgmo.ch
SUMMARY:Hämato-Onko-Lunch / Freitagsfortbildung
DESCRIPTION:
URL:https://www.sgmo.ch/en/event/haemato-onko-lunch-freitagsfortbildung/
END:VEVENT
BEGIN:VEVENT
DTSTART;TZID=Europe/Berlin:20250710T170000
DTEND;TZID=Europe/Berlin:20250710T184500
DTSTAMP:20260424T155700
CREATED:20250513T135045Z
LAST-MODIFIED:20250513T135045Z
UID:10001459-1752166800-1752173100@www.sgmo.ch
SUMMARY:Lung Summit Virtuals
DESCRIPTION:
URL:https://www.sgmo.ch/en/event/lung-summit-virtuals-3/
END:VEVENT
BEGIN:VEVENT
DTSTART;TZID=Europe/Berlin:20250709T180000
DTEND;TZID=Europe/Berlin:20250709T193000
DTSTAMP:20260424T155700
CREATED:20250514T145028Z
LAST-MODIFIED:20250514T145028Z
UID:10001462-1752084000-1752089400@www.sgmo.ch
SUMMARY:Virtual healthbook CME Live CAR T-Tumor Board R/R DLBCL: Tailoring CAR T-Cell Therapy – Patient Selection\, Timing\, and Management Strategies
DESCRIPTION:
URL:https://www.sgmo.ch/en/event/virtual-healthbook-cme-live-car-t-tumor-board-r-r-dlbcl-tailoring-car-t-cell-therapy-patient-selection-timing-and-management-strategies/
END:VEVENT
BEGIN:VEVENT
DTSTART;TZID=Europe/Berlin:20250704T080000
DTEND;TZID=Europe/Berlin:20250705T170000
DTSTAMP:20260424T155700
CREATED:20250328T135120Z
LAST-MODIFIED:20250328T135120Z
UID:10001418-1751616000-1751734800@www.sgmo.ch
SUMMARY:Immunonkologika und gezielte Therapien Refresher
DESCRIPTION:
URL:https://www.sgmo.ch/en/event/immunonkologika-und-gezielte-therapien-refresher/
END:VEVENT
BEGIN:VEVENT
DTSTART;TZID=Europe/Berlin:20250703T180000
DTEND;TZID=Europe/Berlin:20250703T193000
DTSTAMP:20260424T155700
CREATED:20250428T145032Z
LAST-MODIFIED:20250428T145032Z
UID:10001445-1751565600-1751571000@www.sgmo.ch
SUMMARY:Dialog des Alltags: Schnittstelle zwischen Herz und Prostatakrebstherapien
DESCRIPTION:
URL:https://www.sgmo.ch/en/event/dialog-des-alltags-schnittstelle-zwischen-herz-und-prostatakrebstherapien/
END:VEVENT
BEGIN:VEVENT
DTSTART;TZID=Europe/Berlin:20250703T170000
DTEND;TZID=Europe/Berlin:20250703T193000
DTSTAMP:20260424T155700
CREATED:20250501T075053Z
LAST-MODIFIED:20250501T075053Z
UID:10001448-1751562000-1751571000@www.sgmo.ch
SUMMARY:Onco-Summits 2025
DESCRIPTION:
URL:https://www.sgmo.ch/en/event/onco-summits-2025/
END:VEVENT
BEGIN:VEVENT
DTSTART;TZID=Europe/Berlin:20250703T123000
DTEND;TZID=Europe/Berlin:20250703T133000
DTSTAMP:20260424T155700
CREATED:20250129T135015Z
LAST-MODIFIED:20250129T135015Z
UID:10001353-1751545800-1751549400@www.sgmo.ch
SUMMARY:Update Hämatologie
DESCRIPTION:
URL:https://www.sgmo.ch/en/event/update-haematologie/
END:VEVENT
BEGIN:VEVENT
DTSTART;TZID=Europe/Berlin:20250627T130000
DTEND;TZID=Europe/Berlin:20250627T140000
DTSTAMP:20260424T155700
CREATED:20241129T165024Z
LAST-MODIFIED:20250128T082448Z
UID:10001280-1751029200-1751032800@www.sgmo.ch
SUMMARY:Onkolunch: Highlights des Kongress «American Society of Clinical Oncology (ASCO)»
DESCRIPTION:
URL:https://www.sgmo.ch/en/event/onkolunch-11/
END:VEVENT
BEGIN:VEVENT
DTSTART;TZID=Europe/Berlin:20250627T121500
DTEND;TZID=Europe/Berlin:20250627T131500
DTSTAMP:20260424T155700
CREATED:20241104T155021Z
LAST-MODIFIED:20241104T155021Z
UID:10001258-1751026500-1751030100@www.sgmo.ch
SUMMARY:Update EHA 2025 und ICML 2025
DESCRIPTION:
URL:https://www.sgmo.ch/en/event/update-eha-2025-und-icml-2025/
END:VEVENT
BEGIN:VEVENT
DTSTART;TZID=Europe/Berlin:20250626T173000
DTEND;TZID=Europe/Berlin:20250626T190000
DTSTAMP:20260424T155700
CREATED:20250325T135020Z
LAST-MODIFIED:20250325T135020Z
UID:10001410-1750959000-1750964400@www.sgmo.ch
SUMMARY:Virtual healthbook CME Live Tumor Board Aktuelle Managementstrategien beim fortgeschrittenen Prostatakarzinom
DESCRIPTION:
URL:https://www.sgmo.ch/en/event/virtual-healthbook-cme-live-tumor-board-aktuelle-managementstrategien-beim-fortgeschrittenen-prostatakarzinom/
END:VEVENT
BEGIN:VEVENT
DTSTART;TZID=Europe/Berlin:20250626T170000
DTEND;TZID=Europe/Berlin:20250626T190000
DTSTAMP:20260424T155700
CREATED:20250414T195024Z
LAST-MODIFIED:20250414T195024Z
UID:10001433-1750957200-1750964400@www.sgmo.ch
SUMMARY:Highlights und Updates zu den klinisch relevanten Studien des EHA und ICML Kongress
DESCRIPTION:
URL:https://www.sgmo.ch/en/event/highlights-und-updates-zu-den-klinisch-relevanten-studien-des-eha-und-icml-kongress/
END:VEVENT
BEGIN:VEVENT
DTSTART;TZID=Europe/Berlin:20250626T160000
DTEND;TZID=Europe/Berlin:20250626T193000
DTSTAMP:20260424T155700
CREATED:20250430T095046Z
LAST-MODIFIED:20250430T095046Z
UID:10001446-1750953600-1750966200@www.sgmo.ch
SUMMARY:GU Cancer Evening Walenstadt 2025
DESCRIPTION:
URL:https://www.sgmo.ch/en/event/gu-cancer-evening-walenstadt-2025/
END:VEVENT
BEGIN:VEVENT
DTSTART;TZID=Europe/Berlin:20250626T143000
DTEND;TZID=Europe/Berlin:20250626T180000
DTSTAMP:20260424T155700
CREATED:20250610T085028Z
LAST-MODIFIED:20250610T085028Z
UID:10001481-1750948200-1750960800@www.sgmo.ch
SUMMARY:Gemeinsam stark gegen Brustkrebs: Interdisziplinäre Wege zu einer umfassenden Versorgung
DESCRIPTION:
URL:https://www.sgmo.ch/en/event/gemeinsam-stark-gegen-brustkrebs-interdisziplinaere-wege-zu-einer-umfassenden-versorgung/
END:VEVENT
BEGIN:VEVENT
DTSTART;TZID=Europe/Berlin:20250626T130000
DTEND;TZID=Europe/Berlin:20250626T173000
DTSTAMP:20260424T155700
CREATED:20250609T155024Z
LAST-MODIFIED:20250609T155024Z
UID:10001474-1750942800-1750959000@www.sgmo.ch
SUMMARY:Hemato-Oncology Part I
DESCRIPTION:
URL:https://www.sgmo.ch/en/event/hemato-oncology-part-i/
END:VEVENT
BEGIN:VEVENT
DTSTART;TZID=Europe/Berlin:20250626T100000
DTEND;TZID=Europe/Berlin:20250626T170000
DTSTAMP:20260424T155700
CREATED:20250307T135020Z
LAST-MODIFIED:20250307T135020Z
UID:10001393-1750932000-1750957200@www.sgmo.ch
SUMMARY:Swiss Sarcom Symposium
DESCRIPTION:
URL:https://www.sgmo.ch/en/event/swiss-sarcom-symposium/
END:VEVENT
BEGIN:VEVENT
DTSTART;TZID=Europe/Berlin:20250625T173000
DTEND;TZID=Europe/Berlin:20250625T191500
DTSTAMP:20260424T155700
CREATED:20250513T135045Z
LAST-MODIFIED:20250513T135045Z
UID:10001458-1750872600-1750878900@www.sgmo.ch
SUMMARY:Lung Summit Virtuals
DESCRIPTION:
URL:https://www.sgmo.ch/en/event/lung-summit-virtuals-2/
END:VEVENT
BEGIN:VEVENT
DTSTART;TZID=Europe/Berlin:20250625T120000
DTEND;TZID=Europe/Berlin:20250625T130000
DTSTAMP:20260424T155700
CREATED:20241219T145059Z
LAST-MODIFIED:20241219T145059Z
UID:10001317-1750852800-1750856400@www.sgmo.ch
SUMMARY:IOSI Teaching conferences 2025
DESCRIPTION:
URL:https://www.sgmo.ch/en/event/iosi-teaching-conferences-2025-6/
END:VEVENT
BEGIN:VEVENT
DTSTART;TZID=Europe/Berlin:20250624T180000
DTEND;TZID=Europe/Berlin:20250624T200000
DTSTAMP:20260424T155700
CREATED:20250407T155046Z
LAST-MODIFIED:20250407T155046Z
UID:10001423-1750788000-1750795200@www.sgmo.ch
SUMMARY:Battle of Onco-Minds: Interdisziplinäre Perspektiven und innovative Ansätze in der Uro-Onkologie
DESCRIPTION:
URL:https://www.sgmo.ch/en/event/battle-of-onco-minds-interdisziplinaere-perspektiven-und-innovative-ansaetze-in-der-uro-onkologie-2/
END:VEVENT
BEGIN:VEVENT
DTSTART;TZID=Europe/Berlin:20250621T090000
DTEND;TZID=Europe/Berlin:20250621T150000
DTSTAMP:20260424T155700
CREATED:20250327T135016Z
LAST-MODIFIED:20250327T135016Z
UID:10001415-1750496400-1750518000@www.sgmo.ch
SUMMARY:Transplant Oncology Symposium
DESCRIPTION:
URL:https://www.sgmo.ch/en/event/transplant-oncology-symposium/
END:VEVENT
BEGIN:VEVENT
DTSTART;TZID=Europe/Berlin:20250620T121500
DTEND;TZID=Europe/Berlin:20250620T131500
DTSTAMP:20260424T155700
CREATED:20241104T155020Z
LAST-MODIFIED:20241104T155020Z
UID:10001257-1750421700-1750425300@www.sgmo.ch
SUMMARY:Update ASCO 2025
DESCRIPTION:
URL:https://www.sgmo.ch/en/event/update-asco-2025/
END:VEVENT
BEGIN:VEVENT
DTSTART;TZID=Europe/Berlin:20250620T090000
DTEND;TZID=Europe/Berlin:20250620T170000
DTSTAMP:20260424T155700
CREATED:20250506T095148Z
LAST-MODIFIED:20250506T095148Z
UID:10001449-1750410000-1750438800@www.sgmo.ch
SUMMARY:Basic Statistics\, Trial Development and Patient Involvement
DESCRIPTION:
URL:https://www.sgmo.ch/en/event/basic-statistics-trial-development-and-patient-involvement/
END:VEVENT
BEGIN:VEVENT
DTSTART;TZID=Europe/Berlin:20250619T170000
DTEND;TZID=Europe/Berlin:20250619T193000
DTSTAMP:20260424T155700
CREATED:20250521T115015Z
LAST-MODIFIED:20250521T115015Z
UID:10001465-1750352400-1750361400@www.sgmo.ch
SUMMARY:SGMO WebUp Onkologie on ASCO
DESCRIPTION:
URL:https://www.sgmo.ch/en/event/sgmo-webup-onkologie-on-asco/
END:VEVENT
BEGIN:VEVENT
DTSTART;TZID=Europe/Berlin:20250618T173000
DTEND;TZID=Europe/Berlin:20250618T190000
DTSTAMP:20260424T155700
CREATED:20250513T135038Z
LAST-MODIFIED:20250513T135038Z
UID:10001456-1750267800-1750273200@www.sgmo.ch
SUMMARY:healthbook Tumor Board Virtuel «Stratégies actuelles de prise en charge du cancer de la prostate avancé»
DESCRIPTION:
URL:https://www.sgmo.ch/en/event/healthbook-tumor-board-virtuel-strategies-actuelles-de-prise-en-charge-du-cancer-de-la-prostate-avance/
END:VEVENT
BEGIN:VEVENT
DTSTART;TZID=Europe/Berlin:20250618T100000
DTEND;TZID=Europe/Berlin:20250619T164500
DTSTAMP:20260424T155700
CREATED:20250604T105038Z
LAST-MODIFIED:20250604T105038Z
UID:10001471-1750240800-1750351500@www.sgmo.ch
SUMMARY:Summer School in Palliative Medicine
DESCRIPTION:
URL:https://www.sgmo.ch/en/event/summer-school-in-palliative-medicine-3/
END:VEVENT
BEGIN:VEVENT
DTSTART;TZID=Europe/Berlin:20250617T180000
DTEND;TZID=Europe/Berlin:20250617T210000
DTSTAMP:20260424T155700
CREATED:20250430T105030Z
LAST-MODIFIED:20250430T105030Z
UID:10001447-1750183200-1750194000@www.sgmo.ch
SUMMARY:GU Cancer Evening Thurgau 2025
DESCRIPTION:
URL:https://www.sgmo.ch/en/event/gu-cancer-evening-thurgau-2025/
END:VEVENT
BEGIN:VEVENT
DTSTART;TZID=Europe/Berlin:20250617T170000
DTEND;TZID=Europe/Berlin:20250617T184500
DTSTAMP:20260424T155700
CREATED:20250513T135045Z
LAST-MODIFIED:20250513T135045Z
UID:10001457-1750179600-1750185900@www.sgmo.ch
SUMMARY:Lung Summit Virtuals
DESCRIPTION:
URL:https://www.sgmo.ch/en/event/lung-summit-virtuals/
END:VEVENT
END:VCALENDAR