BEGIN:VCALENDAR
VERSION:2.0
PRODID:-//SSMO · SGMO · SSOM | Schweizerische Gesellschaft für Medizinische Onkologie - ECPv6.15.17.1//NONSGML v1.0//EN
CALSCALE:GREGORIAN
METHOD:PUBLISH
X-ORIGINAL-URL:https://www.sgmo.ch/en/
X-WR-CALDESC:Events for SSMO · SGMO · SSOM | Schweizerische Gesellschaft für Medizinische Onkologie
REFRESH-INTERVAL;VALUE=DURATION:PT1H
X-Robots-Tag:noindex
X-PUBLISHED-TTL:PT1H
BEGIN:VTIMEZONE
TZID:Europe/Berlin
BEGIN:DAYLIGHT
TZOFFSETFROM:+0100
TZOFFSETTO:+0200
TZNAME:CEST
DTSTART:20250330T010000
END:DAYLIGHT
BEGIN:STANDARD
TZOFFSETFROM:+0200
TZOFFSETTO:+0100
TZNAME:CET
DTSTART:20251026T010000
END:STANDARD
BEGIN:DAYLIGHT
TZOFFSETFROM:+0100
TZOFFSETTO:+0200
TZNAME:CEST
DTSTART:20260329T010000
END:DAYLIGHT
BEGIN:STANDARD
TZOFFSETFROM:+0200
TZOFFSETTO:+0100
TZNAME:CET
DTSTART:20261025T010000
END:STANDARD
BEGIN:DAYLIGHT
TZOFFSETFROM:+0100
TZOFFSETTO:+0200
TZNAME:CEST
DTSTART:20270328T010000
END:DAYLIGHT
BEGIN:STANDARD
TZOFFSETFROM:+0200
TZOFFSETTO:+0100
TZNAME:CET
DTSTART:20271031T010000
END:STANDARD
END:VTIMEZONE
BEGIN:VEVENT
DTSTART;TZID=Europe/Berlin:20260213T090000
DTEND;TZID=Europe/Berlin:20260214T144500
DTSTAMP:20260421T110118
CREATED:20260107T102342Z
LAST-MODIFIED:20260107T102342Z
UID:10001615-1770973200-1771080300@www.sgmo.ch
SUMMARY:18. Einführungskurs in die Genetische Beratung in der Onkologie 2026
DESCRIPTION:
URL:https://www.sgmo.ch/en/event/18-einfuehrungskurs-in-die-genetische-beratung-in-der-onkologie-2026/
END:VEVENT
BEGIN:VEVENT
DTSTART;TZID=Europe/Berlin:20260213T090000
DTEND;TZID=Europe/Berlin:20260213T120000
DTSTAMP:20260421T110118
CREATED:20260130T122321Z
LAST-MODIFIED:20260130T122321Z
UID:10001667-1770973200-1770984000@www.sgmo.ch
SUMMARY:Le meilleur de l'ASCO GI 2026
DESCRIPTION:
URL:https://www.sgmo.ch/en/event/le-meilleur-de-lasco-gi-2026/
END:VEVENT
BEGIN:VEVENT
DTSTART;TZID=Europe/Berlin:20260212T180000
DTEND;TZID=Europe/Berlin:20260212T190000
DTSTAMP:20260421T110118
CREATED:20260126T102322Z
LAST-MODIFIED:20260126T102322Z
UID:10001649-1770919200-1770922800@www.sgmo.ch
SUMMARY:Hyperferritinämie
DESCRIPTION:
URL:https://www.sgmo.ch/en/event/hyperferritinaemie/
END:VEVENT
BEGIN:VEVENT
DTSTART;TZID=Europe/Berlin:20260212T143000
DTEND;TZID=Europe/Berlin:20260212T173000
DTSTAMP:20260421T110118
CREATED:20260123T132311Z
LAST-MODIFIED:20260123T132311Z
UID:10001646-1770906600-1770917400@www.sgmo.ch
SUMMARY:Zuweiseranlass «Genetische Beratung und Karzinomvorsorge»
DESCRIPTION:
URL:https://www.sgmo.ch/en/event/zuweiseranlass-genetische-beratung-und-karzinomvorsorge/
END:VEVENT
BEGIN:VEVENT
DTSTART;TZID=Europe/Berlin:20260212T123000
DTEND;TZID=Europe/Berlin:20260212T133000
DTSTAMP:20260421T110118
CREATED:20260220T112517Z
LAST-MODIFIED:20260220T112517Z
UID:10001699-1770899400-1770903000@www.sgmo.ch
SUMMARY:Antiemetische Prophylaxe und Therapie\, Wachstumsfaktoren
DESCRIPTION:
URL:https://www.sgmo.ch/en/event/antiemetische-prophylaxe-und-therapie-wachstumsfaktoren/
END:VEVENT
BEGIN:VEVENT
DTSTART;TZID=Europe/Berlin:20260212T094500
DTEND;TZID=Europe/Berlin:20260213T170000
DTSTAMP:20260421T110118
CREATED:20251105T152311Z
LAST-MODIFIED:20251105T152311Z
UID:10001561-1770889500-1771002000@www.sgmo.ch
SUMMARY:European Central Nervous System Metastasis Conference
DESCRIPTION:
URL:https://www.sgmo.ch/en/event/european-central-nervous-system-metastasis-conference/
END:VEVENT
BEGIN:VEVENT
DTSTART;TZID=Europe/Berlin:20260212T081500
DTEND;TZID=Europe/Berlin:20260212T090000
DTSTAMP:20260421T110118
CREATED:20260130T122318Z
LAST-MODIFIED:20260130T122318Z
UID:10001660-1770884100-1770886800@www.sgmo.ch
SUMMARY:Radiothérapie post mastectomie/ chimio néoadjuvante
DESCRIPTION:
URL:https://www.sgmo.ch/en/event/radiotherapie-post-mastectomie-chimio-neoadjuvante/
END:VEVENT
BEGIN:VEVENT
DTSTART;TZID=Europe/Berlin:20260210T174500
DTEND;TZID=Europe/Berlin:20260210T184500
DTSTAMP:20260421T110118
CREATED:20260302T082410Z
LAST-MODIFIED:20260302T082410Z
UID:10001708-1770745500-1770749100@www.sgmo.ch
SUMMARY:Wenn Darmkrebs jung trifft Warum das kolorektale Karzinom bei jungen Menschen zunimmt – nationale und internationale Perspektiven
DESCRIPTION:
URL:https://www.sgmo.ch/en/event/wenn-darmkrebs-jung-trifft-warum-das-kolorektale-karzinom-bei-jungen-menschen-zunimmt-nationale-und-internationale-perspektiven/
END:VEVENT
BEGIN:VEVENT
DTSTART;TZID=Europe/Berlin:20260210T121500
DTEND;TZID=Europe/Berlin:20260210T130000
DTSTAMP:20260421T110118
CREATED:20260105T102317Z
LAST-MODIFIED:20260105T102317Z
UID:10001604-1770725700-1770728400@www.sgmo.ch
SUMMARY:IA et prévention du cancer du col
DESCRIPTION:
URL:https://www.sgmo.ch/en/event/ia-et-prevention-du-cancer-du-col/
END:VEVENT
BEGIN:VEVENT
DTSTART;TZID=Europe/Berlin:20260209T173000
DTEND;TZID=Europe/Berlin:20260209T190000
DTSTAMP:20260421T110118
CREATED:20260211T152325Z
LAST-MODIFIED:20260211T152325Z
UID:10001680-1770658200-1770663600@www.sgmo.ch
SUMMARY:"Beyond the Abstracts"
DESCRIPTION:
URL:https://www.sgmo.ch/en/event/beyond-the-abstracts/
END:VEVENT
BEGIN:VEVENT
DTSTART;TZID=Europe/Berlin:20260205T180000
DTEND;TZID=Europe/Berlin:20260205T203000
DTSTAMP:20260421T110119
CREATED:20251201T081855Z
LAST-MODIFIED:20251201T081855Z
UID:10001591-1770314400-1770323400@www.sgmo.ch
SUMMARY:Echange d'expériences cliniques. Mise à jour sur le cancer du sein
DESCRIPTION:
URL:https://www.sgmo.ch/en/event/echange-dexperiences-cliniques-mise-a-jour-sur-le-cancer-du-sein-2/
END:VEVENT
BEGIN:VEVENT
DTSTART;TZID=Europe/Berlin:20260205T171500
DTEND;TZID=Europe/Berlin:20260205T181500
DTSTAMP:20260421T110119
CREATED:20260202T082304Z
LAST-MODIFIED:20260202T082304Z
UID:10001670-1770311700-1770315300@www.sgmo.ch
SUMMARY:Boost your Tumorboard - Tumorboard Fortbildung Uroviva 2026
DESCRIPTION:
URL:https://www.sgmo.ch/en/event/boost-your-tumorboard-tumorboard-fortbildung-uroviva-2026/
END:VEVENT
BEGIN:VEVENT
DTSTART;TZID=Europe/Berlin:20260205T161500
DTEND;TZID=Europe/Berlin:20260205T171500
DTSTAMP:20260421T110119
CREATED:20260114T152329Z
LAST-MODIFIED:20260114T152329Z
UID:10001620-1770308100-1770311700@www.sgmo.ch
SUMMARY:Grand Round Medizinische Onkologie und Hämatologie / CCCZ
DESCRIPTION:
URL:https://www.sgmo.ch/en/event/grand-round-medizinische-onkologie-und-haematologie-cccz/
END:VEVENT
BEGIN:VEVENT
DTSTART;TZID=Europe/Berlin:20260130T140000
DTEND;TZID=Europe/Berlin:20260131T131500
DTSTAMP:20260421T110119
CREATED:20251203T132330Z
LAST-MODIFIED:20251203T132330Z
UID:10001593-1769781600-1769865300@www.sgmo.ch
SUMMARY:ASCO GI in the Mountains 2026
DESCRIPTION:
URL:https://www.sgmo.ch/en/event/asco-gi-in-the-mountains-2026/
END:VEVENT
BEGIN:VEVENT
DTSTART;TZID=Europe/Berlin:20260127T121500
DTEND;TZID=Europe/Berlin:20260127T130000
DTSTAMP:20260421T110119
CREATED:20260105T102317Z
LAST-MODIFIED:20260105T102317Z
UID:10001603-1769516100-1769518800@www.sgmo.ch
SUMMARY:Retour de l’ESMO
DESCRIPTION:
URL:https://www.sgmo.ch/en/event/retour-de-lesmo-2/
END:VEVENT
BEGIN:VEVENT
DTSTART;TZID=Europe/Berlin:20260127T083000
DTEND;TZID=Europe/Berlin:20260131T183000
DTSTAMP:20260421T110119
CREATED:20260122T152312Z
LAST-MODIFIED:20260122T152312Z
UID:10001636-1769502600-1769884200@www.sgmo.ch
SUMMARY:Allgemeine Innere Medizin Update Refresher Basel
DESCRIPTION:
URL:https://www.sgmo.ch/en/event/allgemeine-innere-medizin-update-refresher-basel/
END:VEVENT
BEGIN:VEVENT
DTSTART;TZID=Europe/Berlin:20260123T100000
DTEND;TZID=Europe/Berlin:20260124T160000
DTSTAMP:20260421T110119
CREATED:20251110T102333Z
LAST-MODIFIED:20251110T102333Z
UID:10001563-1769162400-1769270400@www.sgmo.ch
SUMMARY:Onko Update 2026 / 21. Onkologie UpDate Seminar
DESCRIPTION:
URL:https://www.sgmo.ch/en/event/onko-update-2026-21-onkologie-update-seminar/
END:VEVENT
BEGIN:VEVENT
DTSTART;TZID=Europe/Berlin:20260122T180000
DTEND;TZID=Europe/Berlin:20260122T200000
DTSTAMP:20260421T110119
CREATED:20260105T102314Z
LAST-MODIFIED:20260105T102314Z
UID:10001602-1769104800-1769112000@www.sgmo.ch
SUMMARY:Symposium ROSE - La prise en charge du creux axillaire
DESCRIPTION:
URL:https://www.sgmo.ch/en/event/symposium-rose-la-prise-en-charge-du-creux-axillaire/
END:VEVENT
BEGIN:VEVENT
DTSTART;TZID=Europe/Berlin:20260121T180000
DTEND;TZID=Europe/Berlin:20260121T203000
DTSTAMP:20260421T110119
CREATED:20260107T102340Z
LAST-MODIFIED:20260107T102340Z
UID:10001614-1769018400-1769027400@www.sgmo.ch
SUMMARY:SWISS CANCER INSTITUTE - GU Cancer Forum 2026
DESCRIPTION:
URL:https://www.sgmo.ch/en/event/swiss-cancer-institute-gu-cancer-forum-2026/
END:VEVENT
BEGIN:VEVENT
DTSTART;TZID=Europe/Berlin:20260121T100000
DTEND;TZID=Europe/Berlin:20260121T110000
DTSTAMP:20260421T110119
CREATED:20260323T112336Z
LAST-MODIFIED:20260323T112336Z
UID:10001727-1768989600-1768993200@www.sgmo.ch
SUMMARY:IOSI Spotlights 2026
DESCRIPTION:
URL:https://www.sgmo.ch/en/event/iosi-spotlights-2026/
END:VEVENT
BEGIN:VEVENT
DTSTART;TZID=Europe/Berlin:20260120T180000
DTEND;TZID=Europe/Berlin:20260120T193000
DTSTAMP:20260421T110119
CREATED:20251203T132327Z
LAST-MODIFIED:20251203T132327Z
UID:10001592-1768932000-1768937400@www.sgmo.ch
SUMMARY:Advancing GI Cancer Care in the Perioperative Setting: From Clinical Trials to Real-World Practice
DESCRIPTION:
URL:https://www.sgmo.ch/en/event/advancing-gi-cancer-care-in-the-perioperative-setting-from-clinical-trials-to-real-world-practice/
END:VEVENT
BEGIN:VEVENT
DTSTART;TZID=Europe/Berlin:20260116T130000
DTEND;TZID=Europe/Berlin:20260116T140000
DTSTAMP:20260421T110119
CREATED:20251121T162312Z
LAST-MODIFIED:20251121T162312Z
UID:10001573-1768568400-1768572000@www.sgmo.ch
SUMMARY:Onkolunch 2026
DESCRIPTION:
URL:https://www.sgmo.ch/en/event/onkolunch-2026/
END:VEVENT
BEGIN:VEVENT
DTSTART;TZID=Europe/Berlin:20260116T100000
DTEND;TZID=Europe/Berlin:20260117T160000
DTSTAMP:20260421T110119
CREATED:20251110T102333Z
LAST-MODIFIED:20251110T102333Z
UID:10001564-1768557600-1768665600@www.sgmo.ch
SUMMARY:Onko Update 2026 / 21. Onkologie UpDate Seminar
DESCRIPTION:
URL:https://www.sgmo.ch/en/event/onko-update-2026-21-onkologie-update-seminar-2/
END:VEVENT
BEGIN:VEVENT
DTSTART;TZID=Europe/Berlin:20260115T180000
DTEND;TZID=Europe/Berlin:20260115T193000
DTSTAMP:20260421T110119
CREATED:20260108T152342Z
LAST-MODIFIED:20260108T152342Z
UID:10001616-1768500000-1768505400@www.sgmo.ch
SUMMARY:Virtual healthbook CME Live CAR T-Tumor Board: Integrating CAR T-cell Therapy into the Evolving Treatment Landscape of Lymphoma
DESCRIPTION:
URL:https://www.sgmo.ch/en/event/virtual-healthbook-cme-live-car-t-tumor-board-integrating-car-t-cell-therapy-into-the-evolving-treatment-landscape-of-lymphoma/
END:VEVENT
BEGIN:VEVENT
DTSTART;TZID=Europe/Berlin:20260115T180000
DTEND;TZID=Europe/Berlin:20260115T193000
DTSTAMP:20260421T110119
CREATED:20251118T102337Z
LAST-MODIFIED:20251118T102337Z
UID:10001569-1768500000-1768505400@www.sgmo.ch
SUMMARY:Dialog des Alltags – Management von Patienten mit fortgeschrittenem Urothelkarzinom
DESCRIPTION:
URL:https://www.sgmo.ch/en/event/dialog-des-alltags-management-von-patienten-mit-fortgeschrittenem-urothelkarzinom/
END:VEVENT
BEGIN:VEVENT
DTSTART;TZID=Europe/Berlin:20260115T170000
DTEND;TZID=Europe/Berlin:20260115T191500
DTSTAMP:20260421T110119
CREATED:20260107T102336Z
LAST-MODIFIED:20260107T102336Z
UID:10001613-1768496400-1768504500@www.sgmo.ch
SUMMARY:Myelom Workshop 2026
DESCRIPTION:
URL:https://www.sgmo.ch/en/event/myelom-workshop-2026/
END:VEVENT
BEGIN:VEVENT
DTSTART;TZID=Europe/Berlin:20260115T150000
DTEND;TZID=Europe/Berlin:20260115T183000
DTSTAMP:20260421T110119
CREATED:20251010T072314Z
LAST-MODIFIED:20251010T072314Z
UID:10001541-1768489200-1768501800@www.sgmo.ch
SUMMARY:NEWS FROM SAN ANTONIO BREAST CANCER SYMPOSIUM 2025
DESCRIPTION:
URL:https://www.sgmo.ch/en/event/news-from-san-antonio-breast-cancer-symposium-2025/
END:VEVENT
BEGIN:VEVENT
DTSTART;TZID=Europe/Berlin:20260115T123000
DTEND;TZID=Europe/Berlin:20260115T133000
DTSTAMP:20260421T110119
CREATED:20260220T112517Z
LAST-MODIFIED:20260220T112517Z
UID:10001698-1768480200-1768483800@www.sgmo.ch
SUMMARY:Mind Body Medicine
DESCRIPTION:
URL:https://www.sgmo.ch/en/event/mind-body-medicine/
END:VEVENT
BEGIN:VEVENT
DTSTART;TZID=Europe/Berlin:20260115T084500
DTEND;TZID=Europe/Berlin:20260313T163000
DTSTAMP:20260421T110119
CREATED:20260113T152317Z
LAST-MODIFIED:20260113T152317Z
UID:10001619-1768466700-1773419400@www.sgmo.ch
SUMMARY:Basiskurs in Palliativmedizin 2026
DESCRIPTION:
URL:https://www.sgmo.ch/en/event/basiskurs-in-palliativmedizin-2026/
END:VEVENT
BEGIN:VEVENT
DTSTART;TZID=Europe/Berlin:20260115T081500
DTEND;TZID=Europe/Berlin:20260308T153000
DTSTAMP:20260421T110119
CREATED:20250121T135107Z
LAST-MODIFIED:20250121T135107Z
UID:10001337-1768464900-1772983800@www.sgmo.ch
SUMMARY:BEWEGUNGS- UND SPORT THERAPIE IN DER ONKOLOGIE
DESCRIPTION:
URL:https://www.sgmo.ch/en/event/bewegungs-und-sport-therapie-in-der-onkologie/
END:VEVENT
END:VCALENDAR